BEGIN:VCALENDAR
VERSION:2.0
PRODID:icalendar-ruby
CALSCALE:GREGORIAN
BEGIN:VEVENT
DTSTAMP:20260420T104103Z
UID:6cfcca47-b878-4f16-9194-f7c7c385b779
DTSTART;TZID=Pacific/Auckland:20260427T130000
DTEND;TZID=Pacific/Auckland:20260427T133000
DESCRIPTION:Property ID# 606361
SUMMARY:Openhome for 690 Te Kawa Road
END:VEVENT
END:VCALENDAR
